BEGIN:VCALENDAR
VERSION:2.0
PRODID:-//CSEI - ECPv6.15.20//NONSGML v1.0//EN
CALSCALE:GREGORIAN
METHOD:PUBLISH
X-WR-CALNAME:CSEI
X-ORIGINAL-URL:https://csei.eu
X-WR-CALDESC:Events for CSEI
REFRESH-INTERVAL;VALUE=DURATION:PT1H
X-Robots-Tag:noindex
X-PUBLISHED-TTL:PT1H
BEGIN:VTIMEZONE
TZID:Europe/Copenhagen
BEGIN:DAYLIGHT
TZOFFSETFROM:+0100
TZOFFSETTO:+0200
TZNAME:CEST
DTSTART:20200329T010000
END:DAYLIGHT
BEGIN:STANDARD
TZOFFSETFROM:+0200
TZOFFSETTO:+0100
TZNAME:CET
DTSTART:20201025T010000
END:STANDARD
BEGIN:DAYLIGHT
TZOFFSETFROM:+0100
TZOFFSETTO:+0200
TZNAME:CEST
DTSTART:20210328T010000
END:DAYLIGHT
BEGIN:STANDARD
TZOFFSETFROM:+0200
TZOFFSETTO:+0100
TZNAME:CET
DTSTART:20211031T010000
END:STANDARD
BEGIN:DAYLIGHT
TZOFFSETFROM:+0100
TZOFFSETTO:+0200
TZNAME:CEST
DTSTART:20220327T010000
END:DAYLIGHT
BEGIN:STANDARD
TZOFFSETFROM:+0200
TZOFFSETTO:+0100
TZNAME:CET
DTSTART:20221030T010000
END:STANDARD
BEGIN:DAYLIGHT
TZOFFSETFROM:+0100
TZOFFSETTO:+0200
TZNAME:CEST
DTSTART:20230326T010000
END:DAYLIGHT
BEGIN:STANDARD
TZOFFSETFROM:+0200
TZOFFSETTO:+0100
TZNAME:CET
DTSTART:20231029T010000
END:STANDARD
BEGIN:DAYLIGHT
TZOFFSETFROM:+0100
TZOFFSETTO:+0200
TZNAME:CEST
DTSTART:20240331T010000
END:DAYLIGHT
BEGIN:STANDARD
TZOFFSETFROM:+0200
TZOFFSETTO:+0100
TZNAME:CET
DTSTART:20241027T010000
END:STANDARD
END:VTIMEZONE
BEGIN:VEVENT
DTSTART;TZID=Europe/Copenhagen:20230908T093000
DTEND;TZID=Europe/Copenhagen:20230908T160000
DTSTAMP:20260422T234936
CREATED:20230614T075553Z
LAST-MODIFIED:20231030T160617Z
UID:705-1694165400-1694188800@csei.eu
SUMMARY:2nd Sustainable Energy Day (SustainED)
DESCRIPTION:How much hydrogen do we really need to decarbonize?\nWhat are no-regret options for hydrogen infrastructure?\nWhat regulation ensures that hydrogen reduces emissions?\n\n  \nTo discuss this with experts from research\, policymaking\, and the energy industry join us at the 2nd Sustainable Energy Day \n  \n “Hydrogen Infrastructure & Regulation:\nPower to the Pipeline?!” \n  \norganized by the Danish energy research network ENERforsk and CSEI – free of charge and open-for-all. \n\n\nSustainED has the vision to connect research\, policymakers\, and industry. Participants will therefore be from all three domains and include students from CBS and DTU. \nPlease register (mandatory) here: https://cbs.nemtilmeld.dk/754/ \nThe conference will take place at the CBS campus (Flintholm Auditorium C1\, Stig Lommers Plads 2\, 2000 Frederiksberg). Coffee\, tea\, snacks\, and lunch will be provided. All food served will be vegetarian. For any questions\, please email us at enerforsk@cbs.dk. \nProgram\n\n\n\nFrom 8.30\nCoffee\, Tea\, and Fruit\n\n\n9.00-09.15\nWelcome (CSEI)\n\n\n09.15–10.45\nSession 1: Hydrogen Infrastructure Planning \nFabian Neumann (TU Berlin)\nHydrogen infrastructure planning in Europe: networks\, imports\, and industry \nIrina Fix (GASCADE/EHB)\nChallenges and opportunities for hydrogen infrastructure planning in Europe \nJames Kneebone (FSR)\nTrade-offs between transportation via pipeline and per ship\n\n\n10.45\nVitamin Break\n\n\n11.00–11.45\nKeynote 1\nMarie Münster (DTU)\nHydrogen infrastructure and production in Europe with and without imports\n\n\n11.45–12.30\nKeynote 2\nStefano Astorri (ACER)\nKey challenges in hydrogen planning and regulation\n\n\n12.30\nLunch & Networking\n\n\n13.30-15.00\nSession 2: Hydrogen Regulation \nLuisa Keßler (Bellona Foundation)\nHydrogen from the right sources and in the right places \nSara Piskor (ENTSOG)\nRepurposing – from gas grids to hydrogen infrastructure: planning and regulation \nOana Langa (DG ENER)\nUpdate on current European hydrogen regulation\n\n\n15.00-16.00\nPanel Discussion \nwith the speakers moderated by Anne Neumann (NTNU\, CSEI)\n\n\n\nENERforsk is a network to connect energy researchers in Denmark (and neighboring countries). ENERforsk is supported by Copenhagen School of Energy Infrastructure\, DTU Management – Energy Economics and System Analysis\, and DTU Wind – Society\, Market and Policy and receives funding from Copenhagen Business School.
URL:https://csei.eu/event/sustained-2023/
LOCATION:Copenhagen Business School (FH)\, Stig Lommers Plads 2\, Frederiksberg\, 2000
CATEGORIES:Conference,ENERforsk
ORGANIZER;CN="Alexandra L%C3%BCth":MAILTO:al.eco@cbs.dk
END:VEVENT
BEGIN:VEVENT
DTSTART;TZID=Europe/Copenhagen:20230907T100000
DTEND;TZID=Europe/Copenhagen:20230907T163000
DTSTAMP:20260422T234936
CREATED:20231031T130330Z
LAST-MODIFIED:20231031T130330Z
UID:1388-1694080800-1694104200@csei.eu
SUMMARY:Workshop on "Hydrogen Infrastructure Modeling Workshop"
DESCRIPTION:
URL:https://csei.eu/event/workshop-on-hydrogen-infrastructure-modeling-workshop/
LOCATION:Technical University of Denmark (DTU Management)\, Kongens Lyngby\, 2800\, Denmark
CATEGORIES:ENERforsk
END:VEVENT
BEGIN:VEVENT
DTSTART;TZID=Europe/Copenhagen:20230626T080000
DTEND;TZID=Europe/Copenhagen:20230626T170000
DTSTAMP:20260422T234936
CREATED:20230603T131410Z
LAST-MODIFIED:20231103T143823Z
UID:1525-1687766400-1687798800@csei.eu
SUMMARY:Networking Event for the Energy Sector
DESCRIPTION:Join CSEI at CBS for a networking event for industry professionals and academics in the energy sector.
URL:https://csei.eu/event/networking-event-for-the-energy-sector/
LOCATION:Copenhagen Business School\, Porcelænshaven 16A\, Frederiksberg\, 2000\, Denmark
ORGANIZER;CN="Alexandra L%C3%BCth":MAILTO:al.eco@cbs.dk
END:VEVENT
BEGIN:VEVENT
DTSTART;TZID=Europe/Copenhagen:20230614T080000
DTEND;TZID=Europe/Copenhagen:20230614T170000
DTSTAMP:20260422T234936
CREATED:20230601T084221Z
LAST-MODIFIED:20231115T094301Z
UID:1614-1686729600-1686762000@csei.eu
SUMMARY:Final Workshop on European Integrated Network Planning
DESCRIPTION:
URL:https://csei.eu/event/final-workshop-on-european-integrated-network-planning-2/
LOCATION:Copenhagen Business School (KI)\, Kilevej 14A\, Frederiksberg\, 2000\, Denmark
END:VEVENT
BEGIN:VEVENT
DTSTART;TZID=Europe/Copenhagen:20230511T150000
DTEND;TZID=Europe/Copenhagen:20230511T160000
DTSTAMP:20260422T234936
CREATED:20230420T080938Z
LAST-MODIFIED:20230504T075700Z
UID:400-1683817200-1683820800@csei.eu
SUMMARY:Research Seminar on "Contextualizing the Green Transition in Indigenous Territories"
DESCRIPTION:Speaker: Jacobo Ramirez\, Associate Professor at Copenhagen Business School \nThe seminar takes place in Porcelænshaven 16A\, room 2.80. \nAbstract: \nThis qualitative study examines the impact of green energy investment on the Indigenous Wayúu people of La Guajira\, Colombia\, through the theoretical frameworks of coloniality of power and decolonial feminism. Using interviews and focus groups\, we explore the struggles and resilience of Wayúu women in defending their territories against large-scale green energy investments\, which often cause community conflicts and fail to respect Indigenous peoples’ ontology. We found that green colonialism is often disguised as a need to invest in green energy for the greater good\, but our study shows that Wayúu women are actively engaged in protecting their ancestral lands and defending their Indigenous ontology against the encroachment of large-scale green energy investments through feminist decoloniality practices. Our research highlights the importance of long-term investment and energy transition rhetoric that respects Indigenous peoples’ ancestral territories and protects the rights of Indigenous women. By emphasizing the need for coherent public policies towards decarbonisation that are inclusive of Indigenous peoples\, our study contributes to ongoing efforts to promote sustainable and equitable energy transitions.
URL:https://csei.eu/event/research-seminar-on-carbon-capture-and-storage/
LOCATION:Copenhagen Business School\, Porcelænshaven 16A\, Frederiksberg\, 2000\, Denmark
CATEGORIES:Research Seminar
ORGANIZER;CN="Alexandra L%C3%BCth":MAILTO:al.eco@cbs.dk
END:VEVENT
BEGIN:VEVENT
DTSTART;TZID=Europe/Copenhagen:20230413T150000
DTEND;TZID=Europe/Copenhagen:20230413T160000
DTSTAMP:20260422T234936
CREATED:20230504T093631Z
LAST-MODIFIED:20230504T093631Z
UID:650-1681398000-1681401600@csei.eu
SUMMARY:Research Seminar on “Grid Tariffs & Energy Justice”
DESCRIPTION:
URL:https://csei.eu/event/research-seminar-on-grid-tariffs-energy-justice/
LOCATION:Copenhagen Business School\, Porcelænshaven 16A\, Frederiksberg\, 2000\, Denmark
CATEGORIES:Research Seminar
ORGANIZER;CN="Alexandra L%C3%BCth":MAILTO:al.eco@cbs.dk
END:VEVENT
BEGIN:VEVENT
DTSTART;TZID=Europe/Copenhagen:20230331T093000
DTEND;TZID=Europe/Copenhagen:20230331T160000
DTSTAMP:20260422T234936
CREATED:20230228T141919Z
LAST-MODIFIED:20231103T142449Z
UID:1528-1680255000-1680278400@csei.eu
SUMMARY:Workshop: Electricity market reform in Europe
DESCRIPTION:Join us for a workshop on Electricity market reform in Europe organised jointly by Oxford Institute for Energy Studies and Copenhagen School of Energy Infrastructure.  \nAfter a good year of soaring wholesale prices\, many have come to blame market design for translating gas price increases into electricity revenues\, irrespective of the primary energy source. As a consequence\, the European Commission is now consulting a wide range of reform options for the European electricity market. Beyond the current energy crisis and short-term issues\, the concern remains that market design is not fit for deep penetration of renewable electricity\, with either low price levels or uncertain changes in market design jeopardizing the large-scale investments that are needed. \nTopics for discussion include: \n\nMarkets within the framework of infrastructure addressing issues of congestion\, investment perspectives and innovation\nFundamental reforms vs. incremental change including the conundrum of energy only and zero marginal cost market\, a perspective for nodal pricing and decentralization\nMarket interventions meaning price-caps\, hedging\, contracts for difference among others\n\nEach panel will take up 90 minutes and feature several expert impulses but giving room for actual discussions among the participants.
URL:https://csei.eu/event/workshop-electricity-market-reform-in-europe/
LOCATION:Copenhagen Business School\, Porcelænshaven 16A\, Frederiksberg\, 2000\, Denmark
END:VEVENT
BEGIN:VEVENT
DTSTART;TZID=Europe/Copenhagen:20230309T150000
DTEND;TZID=Europe/Copenhagen:20230309T160000
DTSTAMP:20260422T234936
CREATED:20230504T093632Z
LAST-MODIFIED:20230504T093632Z
UID:651-1678374000-1678377600@csei.eu
SUMMARY:Research Seminar on “Energy Systems Modelling for System Transformation”
DESCRIPTION:
URL:https://csei.eu/event/research-seminar-on-energy-systems-modelling-for-system-transformation/
LOCATION:Copenhagen Business School\, Porcelænshaven 16A\, Frederiksberg\, 2000\, Denmark
CATEGORIES:Research Seminar
ORGANIZER;CN="Alexandra L%C3%BCth":MAILTO:al.eco@cbs.dk
END:VEVENT
BEGIN:VEVENT
DTSTART;TZID=Europe/Copenhagen:20230309T090000
DTEND;TZID=Europe/Copenhagen:20230309T150000
DTSTAMP:20260422T234936
CREATED:20231031T131301Z
LAST-MODIFIED:20231031T131311Z
UID:1398-1678352400-1678374000@csei.eu
SUMMARY:Junior Research Workshop
DESCRIPTION:
URL:https://csei.eu/event/junior-research-workshop-2023-03/
LOCATION:Copenhagen Business School\, Porcelænshaven 16A\, Frederiksberg\, 2000\, Denmark
CATEGORIES:ENERforsk
ORGANIZER;CN="Alexandra L%C3%BCth":MAILTO:al.eco@cbs.dk
END:VEVENT
BEGIN:VEVENT
DTSTART;TZID=Europe/Copenhagen:20230209T150000
DTEND;TZID=Europe/Copenhagen:20230209T160000
DTSTAMP:20260422T234936
CREATED:20230504T093632Z
LAST-MODIFIED:20230504T093632Z
UID:652-1675954800-1675958400@csei.eu
SUMMARY:Research Seminar on “Bilevel Optimisation for Infrastructure Planning”
DESCRIPTION:
URL:https://csei.eu/event/research-seminar-on-bilevel-optimisation-for-infrastructure-planning/
LOCATION:Copenhagen Business School\, Porcelænshaven 16A\, Frederiksberg\, 2000\, Denmark
CATEGORIES:Research Seminar
ORGANIZER;CN="Alexandra L%C3%BCth":MAILTO:al.eco@cbs.dk
END:VEVENT
BEGIN:VEVENT
DTSTART;TZID=Europe/Copenhagen:20230112T150000
DTEND;TZID=Europe/Copenhagen:20230112T160000
DTSTAMP:20260422T234936
CREATED:20230504T093632Z
LAST-MODIFIED:20230504T093632Z
UID:653-1673535600-1673539200@csei.eu
SUMMARY:Research Seminar on “The Future\, Now: A Review of Social Discounting”
DESCRIPTION:
URL:https://csei.eu/event/research-seminar-on-the-future-now-a-review-of-social-discounting/
LOCATION:Copenhagen Business School\, Porcelænshaven 16A\, Frederiksberg\, 2000\, Denmark
CATEGORIES:Research Seminar
ORGANIZER;CN="Alexandra L%C3%BCth":MAILTO:al.eco@cbs.dk
END:VEVENT
BEGIN:VEVENT
DTSTART;TZID=Europe/Copenhagen:20221208T090000
DTEND;TZID=Europe/Copenhagen:20221208T160000
DTSTAMP:20260422T234936
CREATED:20231031T131210Z
LAST-MODIFIED:20231031T131405Z
UID:1396-1670490000-1670515200@csei.eu
SUMMARY:Junior Research Workshop
DESCRIPTION:
URL:https://csei.eu/event/junior-research-workshop-2022-12/
LOCATION:Technical University of Denmark (DTU Management)\, Kongens Lyngby\, 2800\, Denmark
CATEGORIES:ENERforsk
END:VEVENT
BEGIN:VEVENT
DTSTART;TZID=Europe/Copenhagen:20221125T090000
DTEND;TZID=Europe/Copenhagen:20221125T170000
DTSTAMP:20260422T234936
CREATED:20221115T092539Z
LAST-MODIFIED:20231115T110130Z
UID:1608-1669366800-1669395600@csei.eu
SUMMARY:CSEI Anniversary and Inauguration of Klaus Dieter Borchardt
DESCRIPTION:Join CSEI as we celebrate our anniversary and inaugurate Klaus Dieter Borchardt as an Associate professor.
URL:https://csei.eu/event/csei-anniversary-and-inauguration-of-klaus-dieter-borchardt/
LOCATION:Copenhagen Business School\, Porcelænshaven 16A\, Frederiksberg\, 2000\, Denmark
ATTACH;FMTTYPE=image/jpeg:https://csei.eu/wp-content/uploads/2023/11/IMG_5166-copy.jpeg
END:VEVENT
BEGIN:VEVENT
DTSTART;TZID=Europe/Copenhagen:20221020T080000
DTEND;TZID=Europe/Copenhagen:20221020T170000
DTSTAMP:20260422T234936
CREATED:20221003T132505Z
LAST-MODIFIED:20231103T143343Z
UID:1530-1666252800-1666285200@csei.eu
SUMMARY:Workshop on Draft Methodology for Energy Systems Integration and the Integration of Energy Efficiency in the TYNDP
DESCRIPTION:
URL:https://csei.eu/event/workshop-on-draft-methodology-for-energy-systems-integration-and-the-integration-of-energy-efficiency-in-the-tyndp/
LOCATION:European Comission\, Rue de la Loi 102\, Etterbeek\, 1040\, Belgium
END:VEVENT
BEGIN:VEVENT
DTSTART;TZID=Europe/Copenhagen:20220909T093000
DTEND;TZID=Europe/Copenhagen:20220909T160000
DTSTAMP:20260422T234936
CREATED:20231030T160851Z
LAST-MODIFIED:20231031T131639Z
UID:1270-1662715800-1662739200@csei.eu
SUMMARY:1st Sustainable Energy Day (SustainED)
DESCRIPTION:To discuss with experts from research\, policymaking\, and the energy industry join us at the 1st Sustainable Energy Day \n  \n “Energy & The Sea” \n  \norganized by the Danish energy research network ENERforsk and CSEI – free of charge and open-for-all. \n\n\nSustainED has the vision to connect research\, policymakers\, and industry. Participants will therefore be from all three domains and include students from CBS and DTU.
URL:https://csei.eu/event/sustained-2022/
LOCATION:Copenhagen Business School (SP)\, Solbjerg Plads 3\, Frederiksberg\, 2000\, Denmark
CATEGORIES:Conference,ENERforsk
ORGANIZER;CN="Alexandra L%C3%BCth":MAILTO:al.eco@cbs.dk
END:VEVENT
BEGIN:VEVENT
DTSTART;TZID=Europe/Copenhagen:20220622T090000
DTEND;TZID=Europe/Copenhagen:20220622T153000
DTSTAMP:20260422T234936
CREATED:20231031T130215Z
LAST-MODIFIED:20231031T130502Z
UID:1385-1655888400-1655911800@csei.eu
SUMMARY:Workshop on "Energy System Integration and Sustainable Transport"
DESCRIPTION:
URL:https://csei.eu/event/workshop-on-energy-system-integration-and-sustainable-transport/
LOCATION:Copenhagen Business School (KI)\, Kilevej 14A\, Frederiksberg\, 2000\, Denmark
CATEGORIES:ENERforsk
END:VEVENT
BEGIN:VEVENT
DTSTART;TZID=Europe/Copenhagen:20220609T150000
DTEND;TZID=Europe/Copenhagen:20220609T160000
DTSTAMP:20260422T234936
CREATED:20230504T093633Z
LAST-MODIFIED:20230504T093633Z
UID:654-1654786800-1654790400@csei.eu
SUMMARY:Research Seminar on “Is real-time pricing smart for consumers?”
DESCRIPTION:
URL:https://csei.eu/event/research-seminar-on-is-real-time-pricing-smart-for-consumers/
LOCATION:Copenhagen Business School\, Porcelænshaven 16A\, Frederiksberg\, 2000\, Denmark
CATEGORIES:Research Seminar
ORGANIZER;CN="Alexandra L%C3%BCth":MAILTO:al.eco@cbs.dk
END:VEVENT
BEGIN:VEVENT
DTSTART;TZID=Europe/Copenhagen:20220609T090000
DTEND;TZID=Europe/Copenhagen:20220609T150000
DTSTAMP:20260422T234936
CREATED:20231031T131049Z
LAST-MODIFIED:20231031T131049Z
UID:1394-1654765200-1654786800@csei.eu
SUMMARY:Junior Research Workshop
DESCRIPTION:
URL:https://csei.eu/event/junior-research-workshop-2022-06/
LOCATION:Copenhagen Business School\, Porcelænshaven 16A\, Frederiksberg\, 2000\, Denmark
CATEGORIES:ENERforsk
ORGANIZER;CN="Alexandra L%C3%BCth":MAILTO:al.eco@cbs.dk
END:VEVENT
BEGIN:VEVENT
DTSTART;TZID=Europe/Copenhagen:20220512T150000
DTEND;TZID=Europe/Copenhagen:20220512T160000
DTSTAMP:20260422T234936
CREATED:20230504T093635Z
LAST-MODIFIED:20230504T093635Z
UID:655-1652367600-1652371200@csei.eu
SUMMARY:Research Seminar on “Principal-agent Problems in Decarbonizing Container Shipping: A Panel Data Analysis”
DESCRIPTION:
URL:https://csei.eu/event/research-seminar-on-principal-agent-problems-in-decarbonizing-container-shipping-a-panel-data-analysis/
LOCATION:Copenhagen Business School\, Porcelænshaven 16A\, Frederiksberg\, 2000\, Denmark
CATEGORIES:Research Seminar
ORGANIZER;CN="Alexandra L%C3%BCth":MAILTO:al.eco@cbs.dk
END:VEVENT
BEGIN:VEVENT
DTSTART;TZID=Europe/Copenhagen:20220427T080000
DTEND;TZID=Europe/Copenhagen:20220427T170000
DTSTAMP:20260422T234936
CREATED:20220401T090500Z
LAST-MODIFIED:20231102T100654Z
UID:1518-1651046400-1651078800@csei.eu
SUMMARY:Research Seminar: The Future Power System- Lessons from both sides of the Atlantic
DESCRIPTION:Speaker: David Daniels
URL:https://csei.eu/event/research-seminar-the-future-power-system-lessons-from-both-sides-of-the-atlantic/
LOCATION:Copenhagen Business School\, Porcelænshaven 16A\, Frederiksberg\, 2000\, Denmark
ORGANIZER;CN="Alexandra L%C3%BCth":MAILTO:al.eco@cbs.dk
END:VEVENT
BEGIN:VEVENT
DTSTART;TZID=Europe/Copenhagen:20220408T080000
DTEND;TZID=Europe/Copenhagen:20220408T170000
DTSTAMP:20260422T234936
CREATED:20220401T083952Z
LAST-MODIFIED:20231115T094043Z
UID:1612-1649404800-1649437200@csei.eu
SUMMARY:Workshop on Energy Systems Modelling for Integrated Network Planning
DESCRIPTION:
URL:https://csei.eu/event/workshop-on-energy-systems-modelling-for-integrated-network-planning/
LOCATION:Copenhagen Business School (KI)\, Kilevej 14A\, Frederiksberg\, 2000\, Denmark
END:VEVENT
BEGIN:VEVENT
DTSTART;TZID=Europe/Copenhagen:20220407T150000
DTEND;TZID=Europe/Copenhagen:20220407T160000
DTSTAMP:20260422T234936
CREATED:20230504T093636Z
LAST-MODIFIED:20230504T093636Z
UID:656-1649343600-1649347200@csei.eu
SUMMARY:Research Seminar on “On Energy Markets and Policy”
DESCRIPTION:
URL:https://csei.eu/event/research-seminar-on-on-energy-markets-and-policy/
LOCATION:Copenhagen Business School\, Porcelænshaven 16A\, Frederiksberg\, 2000\, Denmark
CATEGORIES:Research Seminar
ORGANIZER;CN="Alexandra L%C3%BCth":MAILTO:al.eco@cbs.dk
END:VEVENT
BEGIN:VEVENT
DTSTART;TZID=Europe/Copenhagen:20220310T150000
DTEND;TZID=Europe/Copenhagen:20220310T160000
DTSTAMP:20260422T234936
CREATED:20230504T093636Z
LAST-MODIFIED:20230504T093636Z
UID:657-1646924400-1646928000@csei.eu
SUMMARY:Research Seminar on “A Reinforcement Learning Approach to Home Energy Management for Modulating Heat Pumps and Photovoltaic Systems”
DESCRIPTION:
URL:https://csei.eu/event/research-seminar-on-a-reinforcement-learning-approach-to-home-energy-management-for-modulating-heat-pumps-and-photovoltaic-systems/
LOCATION:Copenhagen Business School\, Porcelænshaven 16A\, Frederiksberg\, 2000\, Denmark
CATEGORIES:Research Seminar
ORGANIZER;CN="Alexandra L%C3%BCth":MAILTO:al.eco@cbs.dk
END:VEVENT
BEGIN:VEVENT
DTSTART;TZID=Europe/Copenhagen:20220310T090000
DTEND;TZID=Europe/Copenhagen:20220310T150000
DTSTAMP:20260422T234936
CREATED:20231031T130840Z
LAST-MODIFIED:20231031T131517Z
UID:1392-1646902800-1646924400@csei.eu
SUMMARY:Junior Researcher Workshop
DESCRIPTION:
URL:https://csei.eu/event/junior-researcher-workshop-2022-03/
LOCATION:Copenhagen Business School\, Porcelænshaven 16A\, Frederiksberg\, 2000\, Denmark
CATEGORIES:ENERforsk
ORGANIZER;CN="Alexandra L%C3%BCth":MAILTO:al.eco@cbs.dk
END:VEVENT
BEGIN:VEVENT
DTSTART;TZID=Europe/Copenhagen:20220210T150000
DTEND;TZID=Europe/Copenhagen:20220210T160000
DTSTAMP:20260422T234936
CREATED:20230504T093637Z
LAST-MODIFIED:20230504T093637Z
UID:658-1644505200-1644508800@csei.eu
SUMMARY:Research Seminar on “A multi-level qualitative analysis of how the transition to renewable energies affects the internationalization of state-owned electricity generators”
DESCRIPTION:
URL:https://csei.eu/event/research-seminar-on-a-multi-level-qualitative-analysis-of-how-the-transition-to-renewable-energies-affects-the-internationalization-of-state-owned-electricity-generators/
LOCATION:Copenhagen Business School\, Porcelænshaven 16A\, Frederiksberg\, 2000\, Denmark
CATEGORIES:Research Seminar
ORGANIZER;CN="Alexandra L%C3%BCth":MAILTO:al.eco@cbs.dk
END:VEVENT
BEGIN:VEVENT
DTSTART;TZID=Europe/Copenhagen:20220113T150000
DTEND;TZID=Europe/Copenhagen:20220113T160000
DTSTAMP:20260422T234936
CREATED:20230504T093637Z
LAST-MODIFIED:20230504T093637Z
UID:659-1642086000-1642089600@csei.eu
SUMMARY:Research Seminar on “Energy efficiency in ship operations? Exploring voyage decisions and decision-makers”
DESCRIPTION:
URL:https://csei.eu/event/research-seminar-on-energy-efficiency-in-ship-operations-exploring-voyage-decisions-and-decision-makers/
LOCATION:Copenhagen Business School\, Porcelænshaven 16A\, Frederiksberg\, 2000\, Denmark
CATEGORIES:Research Seminar
ORGANIZER;CN="Alexandra L%C3%BCth":MAILTO:al.eco@cbs.dk
END:VEVENT
BEGIN:VEVENT
DTSTART;TZID=Europe/Copenhagen:20211209T150000
DTEND;TZID=Europe/Copenhagen:20211209T160000
DTSTAMP:20260422T234936
CREATED:20230504T093651Z
LAST-MODIFIED:20231108T150912Z
UID:660-1639062000-1639065600@csei.eu
SUMMARY:Research Seminar on “Capital stranding cascades: The impact of decarbonisation on productive asset utilisation”
DESCRIPTION:
URL:https://csei.eu/event/research-seminar-on-capital-stranding-cascades-the-impact-of-decarbonisation-on-productive-asset-utilisation/
LOCATION:Copenhagen Business School\, Porcelænshaven 16A\, Frederiksberg\, 2000\, Denmark
CATEGORIES:Research Seminar
ORGANIZER;CN="Alexandra L%C3%BCth":MAILTO:al.eco@cbs.dk
END:VEVENT
BEGIN:VEVENT
DTSTART;TZID=Europe/Copenhagen:20211111T080000
DTEND;TZID=Europe/Copenhagen:20211111T170000
DTSTAMP:20260422T234936
CREATED:20211102T100121Z
LAST-MODIFIED:20231102T100238Z
UID:1516-1636617600-1636650000@csei.eu
SUMMARY:Research Seminar: Application of SFA in Energy Economics: Benchmarking\, fuel poverty\, and rebound effects
DESCRIPTION:Speaker: Manuel Llorca
URL:https://csei.eu/event/research-seminar-application-of-sfa-in-energy-economics-benchmarking-fuel-poverty-and-rebound-effects/
LOCATION:Copenhagen Business School\, Porcelænshaven 16A\, Frederiksberg\, 2000\, Denmark
ORGANIZER;CN="Alexandra L%C3%BCth":MAILTO:al.eco@cbs.dk
END:VEVENT
BEGIN:VEVENT
DTSTART;TZID=Europe/Copenhagen:20211025T080000
DTEND;TZID=Europe/Copenhagen:20211025T170000
DTSTAMP:20260422T234936
CREATED:20211001T084953Z
LAST-MODIFIED:20231102T095415Z
UID:1512-1635148800-1635181200@csei.eu
SUMMARY:Research Seminar: Circular-economy market formation in the Danish construction industry
DESCRIPTION:Speaker: Christian Erik Kampmann
URL:https://csei.eu/event/research-seminar-circular-economy-market-formation-in-the-danish-construction-industry/
LOCATION:Copenhagen Business School\, Porcelænshaven 16A\, Frederiksberg\, 2000\, Denmark
CATEGORIES:Research Seminar
ORGANIZER;CN="Jens Weibezahn":MAILTO:jew.eco@cbs.dk
END:VEVENT
BEGIN:VEVENT
DTSTART;TZID=Europe/Copenhagen:20210910T080000
DTEND;TZID=Europe/Copenhagen:20210910T170000
DTSTAMP:20260422T234936
CREATED:20210901T074419Z
LAST-MODIFIED:20231102T094848Z
UID:1510-1631260800-1631293200@csei.eu
SUMMARY:Research Seminar: Introduction to Energy Systems Modeling An Open Science Approach
DESCRIPTION:
URL:https://csei.eu/event/research-seminar-introduction-to-energy-systems-modeling-an-open-science-approach/
LOCATION:Copenhagen Business School\, Porcelænshaven 16A\, Frederiksberg\, 2000\, Denmark
CATEGORIES:Research Seminar
ORGANIZER;CN="Jens Weibezahn":MAILTO:jew.eco@cbs.dk
END:VEVENT
END:VCALENDAR