BEGIN:VCALENDAR
VERSION:2.0
PRODID:-//CSEI - ECPv6.15.20//NONSGML v1.0//EN
CALSCALE:GREGORIAN
METHOD:PUBLISH
X-WR-CALNAME:CSEI
X-ORIGINAL-URL:https://csei.eu
X-WR-CALDESC:Events for CSEI
REFRESH-INTERVAL;VALUE=DURATION:PT1H
X-Robots-Tag:noindex
X-PUBLISHED-TTL:PT1H
BEGIN:VTIMEZONE
TZID:Europe/Copenhagen
BEGIN:DAYLIGHT
TZOFFSETFROM:+0100
TZOFFSETTO:+0200
TZNAME:CEST
DTSTART:20230326T010000
END:DAYLIGHT
BEGIN:STANDARD
TZOFFSETFROM:+0200
TZOFFSETTO:+0100
TZNAME:CET
DTSTART:20231029T010000
END:STANDARD
BEGIN:DAYLIGHT
TZOFFSETFROM:+0100
TZOFFSETTO:+0200
TZNAME:CEST
DTSTART:20240331T010000
END:DAYLIGHT
BEGIN:STANDARD
TZOFFSETFROM:+0200
TZOFFSETTO:+0100
TZNAME:CET
DTSTART:20241027T010000
END:STANDARD
BEGIN:DAYLIGHT
TZOFFSETFROM:+0100
TZOFFSETTO:+0200
TZNAME:CEST
DTSTART:20250330T010000
END:DAYLIGHT
BEGIN:STANDARD
TZOFFSETFROM:+0200
TZOFFSETTO:+0100
TZNAME:CET
DTSTART:20251026T010000
END:STANDARD
END:VTIMEZONE
BEGIN:VEVENT
DTSTART;TZID=Europe/Copenhagen:20240321T130000
DTEND;TZID=Europe/Copenhagen:20240321T170000
DTSTAMP:20260423T162342
CREATED:20240229T130543Z
LAST-MODIFIED:20240229T131053Z
UID:1894-1711026000-1711040400@csei.eu
SUMMARY:Stakeholder Engagement Workshop
DESCRIPTION:CSEI is holding a workshop in Brussels on the topic of Stakeholder Engagement. The workshop aims to explore the different forms and shapes of engagements\, their merits and their suitability for different contexts – and to foster meaningful exchange of knowledge and inspiration among policymakers\, regulators and industry professionals. 
URL:https://csei.eu/event/stakeholder-engagement-workshop/
END:VEVENT
END:VCALENDAR