BEGIN:VCALENDAR
VERSION:2.0
PRODID:-//CSEI - ECPv6.15.20//NONSGML v1.0//EN
CALSCALE:GREGORIAN
METHOD:PUBLISH
X-WR-CALNAME:CSEI
X-ORIGINAL-URL:https://csei.eu
X-WR-CALDESC:Events for CSEI
REFRESH-INTERVAL;VALUE=DURATION:PT1H
X-Robots-Tag:noindex
X-PUBLISHED-TTL:PT1H
BEGIN:VTIMEZONE
TZID:Europe/Copenhagen
BEGIN:DAYLIGHT
TZOFFSETFROM:+0100
TZOFFSETTO:+0200
TZNAME:CEST
DTSTART:20230326T010000
END:DAYLIGHT
BEGIN:STANDARD
TZOFFSETFROM:+0200
TZOFFSETTO:+0100
TZNAME:CET
DTSTART:20231029T010000
END:STANDARD
BEGIN:DAYLIGHT
TZOFFSETFROM:+0100
TZOFFSETTO:+0200
TZNAME:CEST
DTSTART:20240331T010000
END:DAYLIGHT
BEGIN:STANDARD
TZOFFSETFROM:+0200
TZOFFSETTO:+0100
TZNAME:CET
DTSTART:20241027T010000
END:STANDARD
BEGIN:DAYLIGHT
TZOFFSETFROM:+0100
TZOFFSETTO:+0200
TZNAME:CEST
DTSTART:20250330T010000
END:DAYLIGHT
BEGIN:STANDARD
TZOFFSETFROM:+0200
TZOFFSETTO:+0100
TZNAME:CET
DTSTART:20251026T010000
END:STANDARD
END:VTIMEZONE
BEGIN:VEVENT
DTSTART;VALUE=DATE:20240416
DTEND;VALUE=DATE:20240418
DTSTAMP:20260423T144903
CREATED:20240102T094923Z
LAST-MODIFIED:20240102T095015Z
UID:1788-1713225600-1713398399@csei.eu
SUMMARY:CBS Green Business Forum
DESCRIPTION:CSEI will be hosting a track at the annual CBS Green Business Forum on the topic of energy. Stay tuned for more information soon!
URL:https://csei.eu/event/cbs-green-business-forum/
LOCATION:Copenhagen Business School\, Porcelænshaven 16A\, Frederiksberg\, 2000\, Denmark
ATTACH;FMTTYPE=image/jpeg:https://csei.eu/wp-content/uploads/2023/10/BM0312_CBS-0707.jpg
END:VEVENT
END:VCALENDAR