BEGIN:VCALENDAR
VERSION:2.0
PRODID:-//CSEI - ECPv6.15.20//NONSGML v1.0//EN
CALSCALE:GREGORIAN
METHOD:PUBLISH
X-ORIGINAL-URL:https://csei.eu
X-WR-CALDESC:Events for CSEI
REFRESH-INTERVAL;VALUE=DURATION:PT1H
X-Robots-Tag:noindex
X-PUBLISHED-TTL:PT1H
BEGIN:VTIMEZONE
TZID:Europe/Copenhagen
BEGIN:DAYLIGHT
TZOFFSETFROM:+0100
TZOFFSETTO:+0200
TZNAME:CEST
DTSTART:20240331T010000
END:DAYLIGHT
BEGIN:STANDARD
TZOFFSETFROM:+0200
TZOFFSETTO:+0100
TZNAME:CET
DTSTART:20241027T010000
END:STANDARD
BEGIN:DAYLIGHT
TZOFFSETFROM:+0100
TZOFFSETTO:+0200
TZNAME:CEST
DTSTART:20250330T010000
END:DAYLIGHT
BEGIN:STANDARD
TZOFFSETFROM:+0200
TZOFFSETTO:+0100
TZNAME:CET
DTSTART:20251026T010000
END:STANDARD
BEGIN:DAYLIGHT
TZOFFSETFROM:+0100
TZOFFSETTO:+0200
TZNAME:CEST
DTSTART:20260329T010000
END:DAYLIGHT
BEGIN:STANDARD
TZOFFSETFROM:+0200
TZOFFSETTO:+0100
TZNAME:CET
DTSTART:20261025T010000
END:STANDARD
END:VTIMEZONE
BEGIN:VEVENT
DTSTART;TZID=Europe/Copenhagen:20251128T083000
DTEND;TZID=Europe/Copenhagen:20251128T123000
DTSTAMP:20260422T122626
CREATED:20260127T125514Z
LAST-MODIFIED:20260127T130901Z
UID:2934-1764318600-1764333000@csei.eu
SUMMARY:Port Security Workshop
DESCRIPTION:AB Workshop: Ports as Energy Transition Hubs \nDate: Friday 28th November 2025 \nVenue: DH.Ø.2.71 CBS Dalgas Have 15\, 2000 Frederiksberg\, Denmark \nTime: 8:30 – 12:30\, lunch included \nIntroduction \nPorts are emerging as key enablers of Europe’s green transition\, serving as industrial and logistical hubs that connect renewable energy production\, storage\, and distribution across regions and sectors. This talk presents POTENT\, an EU initiative that strengthens Europe’s industrial capacity by positioning ports at the centre of the green-energy transformation. Bringing together 8 academic institutions from around the EU as well as 17 non-academic partners\, including port authorities\, public agencies\, industry\, and NGOs; POTENT explores how port ecosystems can integrate new renewable energy technologies\, attract investment\, and coordinate between public and private actors. \nSchedule \n08:30 – 09:00: Arrival and light breakfast \n  \n09:00– 09:15: Welcome by Tooraj Jamasb\, Director of CSEI and Philipp A. Ostrowicz\, Senior Research Advisor and Coordinator of CSEI \n09:15– 11:15 First session  \nThis session will explore the perspectives of serval ports and the role they play in the energy transition. These perspectives will support the projects case study design concerning business model transformations (from oil to offshore wind). C-40 will then round out the session with a discussion panel. \nPort of Rønne – Maja Felicia Bendtsen \nPort of Aalborg – Lars Jøker \nMærsk Mc-Kinney Møller Center – Torben Nørgaard \nC-40 – Ariane Colson \n11:20 – 11:30 Coffee break  \n  \n11:30 – 12:15 Second session – POTENT Project Presentation \nThis session will outline POTENTs overall vision of the ports as energy transition hubs from Henrik Sornn-Friese\, and with the three PhD students from CBS presenting their projects. \nHenrik Sornn-Friese – Project overview \nKalai Or – Port Governance & Business Models for Clean Energy \nSalena Wang – Regulatory Models for Energy Port Transition \nIrem Bilen – Energy Ports: System Integration & Network Impacts \n12:15 – 12:30 Discussion & Conclusions  \n  \n12:30 – Light Lunch
URL:https://csei.eu/event/port-security-workshop/
LOCATION:Copenhagen Business School\, Porcelænshaven 16A\, Frederiksberg\, 2000\, Denmark
ATTACH;FMTTYPE=image/jpeg:https://csei.eu/wp-content/uploads/2025/05/AdobeStock_469356507-copy-scaled.jpeg
END:VEVENT
END:VCALENDAR